BEGIN:VCALENDAR
VERSION:2.0
PRODID:ADNA Events System
X-WR-TIMEZONE:America/Winnipeg
BEGIN:VTIMEZONE
TZID:America/Winnipeg
X-LIC-LOCATION:America/Winnipeg
BEGIN:DAYLIGHT
TZOFFSETFROM:-0500
TZOFFSETTO:-0500
DTSTART:19810329T020000
RRULE:FREQ=YEARLY;INTERVAL=1;BYMONTH=3;BYDAY=-1SU
END:DAYLIGHT
END:VTIMEZONE
BEGIN:VEVENT
UID:69e78772a60f5
DTSTART;TZID=America/Winnipeg:20250401T000000
SEQUENCE:0
TRANSP:OPAQUE
DTEND;TZID=America/Winnipeg:20270409T000000
URL:https://supplybuild.ca/events-calendar.html/event-info/details/id/72
SUMMARY:Supply-Build Canada Online Estimating Super Bundle (Terminology\, B
 lueprint Reading\, Estimating Level One & Two)
CLASS:PUBLIC
DESCRIPTION:\n\nhttps://supplybuild.ca/events-calendar.html/event-info/deta
 ils/id/72
X-ALT-DESC;FMTTYPE=text/html:<p><strong>Online Terminology for Estimating F
 undamentals -&nbsp\;Self-Paced (8 hours)</strong></p>\n\n<p>Your key to un
 locking an estimator&rsquo\;s insider knowledge! This course will give you
  ease and familiarity with terms that would otherwise take years of trial 
 and error to learn.&nbsp\;Dive into this in-depth look at all the componen
 ts you&rsquo\;ll encounter when creating a customer estimate (takeoff). Yo
 u will learn about&nbsp\;decks\, garage floors\, main and subfloor framing
 \,&nbsp\;garage walls\,&nbsp\;roofs (residential and garage)\, trusses\, a
 nd interior assembly.</p>\n\n<p>&nbsp\;</p>\n\n<p><strong>Online Blueprint
  Reading Fundamentals - Self-Paced (8 hours)</strong></p>\n\n<p><em>If the
  registrant has already completed this course\, you can register another t
 eam member in their place.</em></p>\n\n<p>Are you looking to better unders
 tand the information found on working drawings to estimate? This course&nb
 sp\;covers the basic content of residential working drawings. It includes 
 several different types of drawings to help students become familiar with 
 all aspects of blueprint reading. Upon completion of this class\, students
  will have a good understanding of house plans and be able to:</p>\n\n<ul>
 \n<li>Identify the information included in title blocks\, cover sheets and
  schedules</li>\n<li>Realize the liability and contractual obligations ari
 sing from working with blueprints</li>\n<li>Differentiate between items sh
 own in the section and elevation and the importance of the &lsquo\;cut pla
 ne&rsquo\;</li>\n<li>Calculate vertical and horizontal dimensions in both 
 imperial and metric</li>\n<li>Recognize building terms\, abbreviations and
  symbols common to the building industry</li>\n</ul>\n\n<p>Comprehend the 
 information included on-site plans\, including grades\, slope and setbacks
 .</p>\n\n<p>&nbsp\;</p>\n\n<p><strong>Online Estimating Level 1- Self-Pace
 d (8 hours)</strong></p>\n\n<p>Construction estimating creates sales oppor
 tunities for your business\; detailed\, accurate estimates are essential!<
 /p>\n\n<p>This course is recommended for anyone new to a sales or estimati
 ng role and we recommend taking our WRLA Academy Blueprint Reading course 
 prior. It&nbsp\;will take you through the estimating process: from the con
 tract documents to the methods of calculating material quantities used in 
 construction. You&rsquo\;ll learn to use&nbsp\;&ldquo\;take off&rdquo\; me
 thods from professional drawings to develop an accurate materials list. Yo
 u&rsquo\;ll learn all the terminology and components you need to make a ty
 pical estimate for decks\, garages\, and bungalows. Practical exercises an
 d more will give you the solid estimating foundation you need.</p>\n\n<p>&
 nbsp\;</p>\n\n<p><strong>Online Estimating Level 2- Self-Paced (8 hours)</
 strong></p>\n\n<p>This course will build on the concepts you learned in Le
 vel 1 (it is strongly recommended to take Level 1 prior) and is for anyone
  looking to gain advanced knowledge of estimating. We&rsquo\;ll take you t
 hrough the full process of estimating so you can thrive in your role!</p>\
 n\n<p>You&rsquo\;ll review architectural and structural drawings and learn
  how to read these drawings to create a full and accurate material list. B
 ecome fully proficient with creating the take-off. Discover the terminolog
 y and components you need to make a typical estimate for a standard 2-stor
 ey home\, bonus room\, walkout\, duplex\, 2-storey duplex\, and tall walls
 . Through practical exercises and actual estimating examples\, this course
  will give you the confidence you need to succeed.</p>\n\n<p>&nbsp\;</p>\n
DTSTAMP:20260421T091930Z
END:VEVENT
END:VCALENDAR