BEGIN:VCALENDAR
VERSION:2.0
PRODID:ADNA Events System
X-WR-TIMEZONE:America/Winnipeg
BEGIN:VTIMEZONE
TZID:America/Winnipeg
X-LIC-LOCATION:America/Winnipeg
BEGIN:DAYLIGHT
TZOFFSETFROM:-0500
TZOFFSETTO:-0500
DTSTART:19810329T020000
RRULE:FREQ=YEARLY;INTERVAL=1;BYMONTH=3;BYDAY=-1SU
END:DAYLIGHT
END:VTIMEZONE
BEGIN:VEVENT
UID:69e7879585b83
DTSTART;TZID=America/Winnipeg:20250401T000000
SEQUENCE:0
TRANSP:OPAQUE
DTEND;TZID=America/Winnipeg:20270409T000000
URL:https://supplybuild.ca/events-calendar.html/event-info/details/id/44
SUMMARY:Supply-Build Canada Online Estimating Level One
CLASS:PUBLIC
DESCRIPTION:\n\nhttps://supplybuild.ca/events-calendar.html/event-info/deta
 ils/id/44
X-ALT-DESC;FMTTYPE=text/html:<p>This course is recommended for anyone new t
 o a sales or estimating role. It&nbsp\;will take you through the process o
 f estimating: from the contract documents to the methods of calculating ma
 terial quantities used in construction. Discover how to use &ldquo\;take o
 ff&rdquo\; methods from professional drawings to develop an accurate mater
 ials list. Understand the components and material you&rsquo\;ll need to cr
 eate a typical estimate for decks\, garages and bungalows. Practical exerc
 ises and more will give you the solid estimating foundation you need.</p>\
 n\n<p>We encourage all Level 1 Estimating students to complete the online&
 nbsp\;<strong>Terminology</strong>&nbsp\;and&nbsp\;<strong>Blueprint Readi
 ng&nbsp\;</strong>courses&nbsp\;to ensure they are confident reading bluep
 rints and understanding the common terminology used in the Lumber and Buil
 ding industry.</p>\n
DTSTAMP:20260421T092005Z
END:VEVENT
END:VCALENDAR