BEGIN:VCALENDAR
VERSION:2.0
PRODID:ADNA Events System
X-WR-TIMEZONE:EST
BEGIN:VTIMEZONE
TZID:EST
X-LIC-LOCATION:EST
BEGIN:DAYLIGHT
TZOFFSETFROM:-0500
TZOFFSETTO:-0500
DTSTART:19810329T020000
RRULE:FREQ=YEARLY;INTERVAL=1;BYMONTH=3;BYDAY=-1SU
END:DAYLIGHT
END:VTIMEZONE
BEGIN:VEVENT
UID:69e789230348f
DTSTART;TZID=EST:20250401T000000
SEQUENCE:0
TRANSP:OPAQUE
DTEND;TZID=EST:20270409T000000
URL:https://supplybuild.ca/events-calendar.html/event-info/details/id/138
SUMMARY:Supply-Build Canada Online Business Series
CLASS:PUBLIC
DESCRIPTION:\n\nhttps://supplybuild.ca/events-calendar.html/event-info/deta
 ils/id/138
X-ALT-DESC;FMTTYPE=text/html:<p>Running a lumber and building supply busine
 ss today looks&nbsp\;and feels very different than it did even a decade ag
 o. Owners&nbsp\;and senior managers are navigating tighter margins\, shift
 ing&nbsp\;markets\, labour shortages\, evolving customer expectations\, an
 d the&nbsp\;never-ending challenge of running a day-to-day operation while
  planning for the future.To support leaders through these realities\, Supp
 ly-Build Canada has&nbsp\;developed the Business Series &ndash\; a five-pa
 rt learning pathway designed&nbsp\;to help business owners and upper manag
 ement understand where&nbsp\;their company sits in the business life cycle
  and how to make confident\,&nbsp\;strategic decisions at each stage.</p>\
 n\n<p><strong>BUILT FOR LEADERS WHO NEED&nbsp\;CLEAR\, PRACTICAL GUIDANCE<
 /strong><br />\nThe Business Series is designed specifically for the Canad
 ian LBM&nbsp\;sector. It&rsquo\;s not generic business content &ndash\; it
 &rsquo\;s grounded in the real-world&nbsp\;challenges and opportunities fa
 ced by building centres\, lumberyards\,&nbsp\;and contractor-focused opera
 tions.</p>\n\n<p><strong>The series follows five natural stages of busines
 s evolution:</strong><br />\n1. Start-Up - Proving the model and building 
 initial momentum<br />\n2. Stability - Creating predictable operations and
  reliable&nbsp\;&nbsp\;performance<br />\n3. Growth - Scaling with intenti
 on and protecting profit along&nbsp\;the way<br />\n4. Replication - Expan
 ding to new markets or locations<br />\n5. Harvest - Preparing for transit
 ion\, succession\, or sale</p>\n\n<p>We have soft-launched Modules 2\, 3\,
  and 4 &ndash\; Stability\, Growth\, and&nbsp\;Replication &ndash\; offeri
 ng immediate value to owners and managers who&nbsp\;want to strengthen the
 ir business foundations or plan for expansion.&nbsp\;Stages 1 &amp\; 5 com
 ing soon.</p>\n\n<p><strong>MODULE PROFILE: STABILITY</strong></p>\n\n<p>I
 t introduces clear frameworks for:<br />\n&bull\; Developing a reliable vo
 lume of monthly business<br />\n&bull\; Understanding break-even sales and
  cost structures<br />\n&bull\; Ensuring key roles are filled with the rig
 ht capabilities<br />\n&bull\; Building dependable supplier relationships<
 br />\n&bull\; Managing cash in a way that prevents surprises<br />\nRathe
 r than focusing on quick fixes\, this module helps owners build a&nbsp\;fo
 undation that reduces firefighting\, stabilizes revenue\, and supports&nbs
 p\;long-term success.</p>\n\n<p><strong>MODULE PROFILE: GROWTH</strong></p
 >\n\n<p>This module helps leaders learn how to:<br />\n&bull\; Increase re
 venue in ways that also increase profitability\, not just&nbsp\;top-line s
 ales<br />\n&bull\; Strengthen relationships with contractors\, builders\,
  and architects<br />\n&bull\; Improve their digital presence in a crowded
  market<br />\n&bull\; Build a team capable of leading the next stage of t
 he business<br />\n&bull\; Navigate the reality that growth increases cash
  demands &ndash\; sometimes dramatically</p>\n\n<p><strong>MODULE PROFILE:
  REPLICATION</strong></p>\n\n<p>Participants learn how to evaluate:<br />\
 n&bull\; Different expansion pathways (buying\, building\, franchising\, p
 artnerships\, etc.)<br />\n&bull\; Leadership needs when the owner can&rsq
 uo\;t be in two places at once<br />\n&bull\; Market size\, demographics\,
  competition\, and local buying behaviour<br />\n&bull\; How brand identit
 y translates into a new community<br />\n&bull\; The true cost of expansio
 n &ndash\; from real estate and inventory to staffing&nbsp\;and marketing<
 /p>\n
DTSTAMP:20260421T092643Z
END:VEVENT
END:VCALENDAR