BEGIN:VCALENDAR
VERSION:2.0
PRODID:ADNA Events System
X-WR-TIMEZONE:EST
BEGIN:VTIMEZONE
TZID:EST
X-LIC-LOCATION:EST
BEGIN:DAYLIGHT
TZOFFSETFROM:-0500
TZOFFSETTO:-0500
DTSTART:19810329T020000
RRULE:FREQ=YEARLY;INTERVAL=1;BYMONTH=3;BYDAY=-1SU
END:DAYLIGHT
END:VTIMEZONE
BEGIN:VEVENT
UID:69e79a374aef5
DTSTART;TZID=EST:20250401T000000
SEQUENCE:0
TRANSP:OPAQUE
DTEND;TZID=EST:20270409T000000
URL:https://supplybuild.ca/events-calendar.html/event-info/details/id/137
SUMMARY:Supply-Build Canada Online FISH Course
CLASS:PUBLIC
DESCRIPTION:\n\nhttps://supplybuild.ca/events-calendar.html/event-info/deta
 ils/id/137
DTSTAMP:20260421T103935Z
END:VEVENT
END:VCALENDAR