BEGIN:VCALENDAR
VERSION:2.0
PRODID:ADNA Events System
X-WR-TIMEZONE:America/Winnipeg
BEGIN:VTIMEZONE
TZID:America/Winnipeg
X-LIC-LOCATION:America/Winnipeg
BEGIN:DAYLIGHT
TZOFFSETFROM:-0500
TZOFFSETTO:-0500
DTSTART:19810329T020000
RRULE:FREQ=YEARLY;INTERVAL=1;BYMONTH=3;BYDAY=-1SU
END:DAYLIGHT
END:VTIMEZONE
BEGIN:VEVENT
UID:69e7881c89a12
DTSTART;TZID=America/Winnipeg:20250401T000000
SEQUENCE:0
TRANSP:OPAQUE
DTEND;TZID=America/Winnipeg:20270409T000000
URL:https://supplybuild.ca/events-calendar.html/event-info/details/id/116
SUMMARY:NHPA Project PRO and Loss Prevention - Floor Staff
CLASS:PUBLIC
DESCRIPTION:\n\nhttps://supplybuild.ca/events-calendar.html/event-info/deta
 ils/id/116
X-ALT-DESC;FMTTYPE=text/html:<div class=\"wpad row-2column memWrap\">\n<div
 >\n<div>\n<h2>Project Pro &amp\; Loss Prevention</h2>\n\n<h3>Member Bundle
  Price: $199 per person</h3>\n\n<p><strong style=\"color:#330a2b\">Non-Mem
 ber Bundle Price: $399 per person</strong></p>\n</div>\n\n<p><strong>Cours
 e Length:</strong> ~340 Mins | ~5.7 Hours<br />\n<strong>Certificate:</str
 ong> Shareable certificate issued upon successful completion<br />\n<stron
 g>Delivery Mode:</strong> 100% online (self-paced) &mdash\; via desktop\, 
 tablet\, and mobile devices</p>\n\n<div style=\"max-width: 700px\">\n<p>El
 ectrical Fixture\, Exterior Painting\, Fixing a Leaky Toilet\, Home Weathe
 rization\, Installing Electrical Outlets and Switches\, Lawn Mower Care\, 
 Lawn Repair\, Plumbing Supply Lines\, Priming &amp\; Painting Interior Wal
 ls\, Refinishing an Antique\, Repairing Drywall\, Replacing a Faucet\, Spr
 ing Lawn Care\, Planting &amp\; Pruning Trees &amp\; Shrubs\, Deck Mainten
 ance &amp\; Repair\, Loss Prevention: External Theft\, Loss Prevention: In
 ternal Theft</p>\n</div>\n</div>\n</div>\n
DTSTAMP:20260421T092220Z
END:VEVENT
END:VCALENDAR