BEGIN:VCALENDAR
VERSION:2.0
PRODID:ADNA Events System
X-WR-TIMEZONE:America/Winnipeg
BEGIN:VTIMEZONE
TZID:America/Winnipeg
X-LIC-LOCATION:America/Winnipeg
BEGIN:DAYLIGHT
TZOFFSETFROM:-0500
TZOFFSETTO:-0500
DTSTART:19810329T020000
RRULE:FREQ=YEARLY;INTERVAL=1;BYMONTH=3;BYDAY=-1SU
END:DAYLIGHT
END:VTIMEZONE
BEGIN:VEVENT
UID:69e788e8b6950
DTSTART;TZID=America/Winnipeg:20250401T000000
SEQUENCE:0
TRANSP:OPAQUE
DTEND;TZID=America/Winnipeg:20270409T000000
URL:https://supplybuild.ca/events-calendar.html/event-info/details/id/115
SUMMARY:NHPA Super Bundle - All Courses
CLASS:PUBLIC
DESCRIPTION:\n\nhttps://supplybuild.ca/events-calendar.html/event-info/deta
 ils/id/115
X-ALT-DESC;FMTTYPE=text/html:<div class=\"panel\" style=\"background-color:
  #e8ded6\;\">\n<h2>Retail Education Super Bundle</h2>\n\n<h3 style=\"color
 : #471fb0\;\">Member Price: $599</h3>\n\n<p><strong>Total course Length:</
 strong> ~1\,875 Mins | ~31 Hours<br />\n<strong>Certificate:</strong> Shar
 eable certificate issued upon successful completion<br />\n<strong>Deliver
 y Mode:</strong> 100% online (self-paced) &mdash\; via desktop\, tablet\, 
 and mobile devices</p>\n\n<p>Only Supply-Build Canada members can receive 
 this exclusive deal to buy all the Beginner Staff\, Floor Staff and Manage
 rial Staff bundles for Retail Education</p>\n</div>\n<!-- <div class=\"pad
 Big\">\n    <h2 class=\"text-center\" style=\"color: #471fb0\;\">Empowerin
 g Retail Success Through Professional Education<br>Advance Your Team. Acce
 lerate Your Business.</h2>\n</div>\n\n<div style=\"text-align: center\;\" 
 class=\"yt-padding textCbox\">\n    <p>Through our exclusive partnership w
 ith the North American Hardware and Paint Association (NHPA)\, we are prou
 d to offer market-leading retail education tailored to our retailers.</p>\
 n\n    <p style=\"padding-bottom: 2vh\;\">This program delivers over 40+ c
 omprehensive courses to equip employees\, managers\, and business owners w
 ith the skills needed to drive sales\, retain talent\, and optimize store 
 operations.</p>\n</div>\n\n<div style=\"text-align: center\;\" class=\"pad
 Bottom\">\n    <h2 style=\"color: #471fb0\">Affordable Investment. Stronge
 r Teams. Better Business Results.</h2>\n    <p>Partner with Supply-Build C
 anada to invest in your future today</p>\n</div>\n\n<hr> --><!--<div class
 =\"row-2column\" style=\"margin-bottom: 0\; padding-top: 0\; width: 100%\;
 \">\n<div class=\"threerowP\" style=\"margin: 0\; padding: 2vw\;\">\n<div 
 class=\"flexcolumnWrap\">\n<div>\n<h2>Beginner Staff</h2>\n\n<p><strong>Ne
 w and Entry-Level Employees</strong></p>\n\n<p>Courses at this level intro
 duce essential concepts for employees starting their retail journey.</p>\n
 </div>\n\n<div><a href=\"/programs/beginner-bundle-overview.html\" id=\"bu
 ttonDecoration\" target=\"_blank\">View Bundle</a></div>\n</div>\n</div>\n
 \n<div class=\"threerowP\" style=\"margin: 0\; padding: 2vw\;\">\n<div cla
 ss=\"flexcolumnWrap\">\n<div>\n<h2>Floor Staff</h2>\n\n<p><strong>Developi
 ng Employees</strong></p>\n\n<p>Courses at this level build on foundationa
 l skills to help employees strengthen product knowledge\, improve selling 
 techniques\, and support in-store success.</p>\n</div>\n\n<div><a href=\"/
 programs/floor-bundle-overview.html\" id=\"buttonDecoration\" target=\"_bl
 ank\">View Bundles</a></div>\n</div>\n</div>\n\n<div class=\"threerowP\" s
 tyle=\"margin: 0\; padding: 2vw\;\">\n<div class=\"flexcolumnWrap\">\n<div
 >\n<h2>Managerial Staff</h2>\n\n<p><strong>Managers and Leaders</strong></
 p>\n\n<p>Courses at this level focus on core operational concepts to help 
 managers and key staff lead teams\, manage performance\, and drive busines
 s growth.</p>\n</div>\n\n<div><a href=\"/programs/managerial-bundle-overvi
 ew.html\" id=\"buttonDecoration\" target=\"_blank\">View Bundle</a></div>\
 n</div>\n</div>\n</div>\n\n<div class=\"hrPodcast padMed\" style=\"backgro
 und-color: #e8ded6\;\">\n<h2>View all courses:</h2>\n\n<div class=\"colWra
 p\" style=\"max-height: 100%\;\">\n<div class=\"threeWrap hrpodrow flexrow
 \" style=\"width: 100%\;\">\n<div><a class=\"hrpodlink\" href=\"https://su
 pplybuild.ca/programs/beginner-bundle-overview.html\" target=\"_blank\">Vi
 ew Courses</a></div>\n\n<div style=\"flex-wrap: wrap\;\"><a class=\"nolink
 color\" href=\"https://supplybuild.ca/programs/beginner-bundle-overview.ht
 ml\" target=\"_blank\"><strong>Beginner – Working in Retail | The Basics
 </strong></a></div>\n</div>\n\n<div class=\"threeWrap hrpodrow flexrow\" s
 tyle=\"width: 100%\;\">\n<div><a class=\"hrpodlink\" href=\"https://supply
 build.ca/programs/retail-floor-courses.html#fhardware\" target=\"_blank\">
 View Courses</a></div>\n\n<div style=\"flex-wrap: wrap\;\"><a class=\"noli
 nkcolor\" href=\"https://supplybuild.ca/programs/retail-floor-courses.html
 #fhardware\" target=\"_blank\"><strong>Floor Staff – Hardware Retailing<
 /strong></a></div>\n</div>\n\n<div class=\"threeWrap hrpodrow flexrow\" st
 yle=\"width: 100%\;\">\n<div><a class=\"hrpodlink\" href=\"https://supplyb
 uild.ca/programs/retail-floor-courses.html#fbmr\" target=\"_blank\">View C
 ourses</a></div>\n\n<div style=\"flex-wrap: wrap\;\"><a class=\"nolinkcolo
 r\" href=\"https://supplybuild.ca/programs/retail-floor-courses.html#fbmr\
 " target=\"_blank\"><strong>Floor Staff – Building Materials Retailing</
 strong></a></div>\n</div>\n\n<div class=\"threeWrap hrpodrow flexrow\" sty
 le=\"width: 100%\;\">\n<div><a class=\"hrpodlink\" href=\"https://supplybu
 ild.ca/programs/retail-floor-courses.html#fpaint\" target=\"_blank\">View 
 Courses</a></div>\n\n<div style=\"flex-wrap: wrap\;\"><a class=\"nolinkcol
 or\" href=\"https://supplybuild.ca/programs/retail-floor-courses.html#fpai
 nt\" target=\"_blank\"><strong>Floor Staff – Paint Training</strong></a>
 </div>\n</div>\n\n<div class=\"threeWrap hrpodrow flexrow\" style=\"width:
  100%\;\">\n<div><a class=\"hrpodlink\" href=\"https://supplybuild.ca/prog
 rams/retail-floor-courses.html#fpro\" target=\"_blank\">View Courses</a></
 div>\n\n<div style=\"flex-wrap: wrap\;\"><a class=\"nolinkcolor\" href=\"h
 ttps://supplybuild.ca/programs/retail-floor-courses.html#fpro\" target=\"_
 blank\"><strong>Floor Staff – Project Pro & Loss Prevention</strong></a>
 </div>\n</div>\n\n<div class=\"threeWrap hrpodrow flexrow\" style=\"width:
  100%\;\">\n<div><a class=\"hrpodlink\" href=\"https://supplybuild.ca/prog
 rams/retail-managerial-courses.html\" target=\"_blank\">View Courses</a></
 div>\n\n<div style=\"flex-wrap: wrap\;\"><a class=\"nolinkcolor\" href=\"h
 ttps://supplybuild.ca/programs/retail-managerial-courses.html\" target=\"_
 blank\"><strong>Managerial Staff – Inventory Management\, Retailing Pric
 ing</strong></a></div>\n</div>\n</div>\n</div>-->
DTSTAMP:20260421T092544Z
END:VEVENT
END:VCALENDAR