BEGIN:VCALENDAR
VERSION:2.0
PRODID:ADNA Events System
X-WR-TIMEZONE:America/Winnipeg
BEGIN:VTIMEZONE
TZID:America/Winnipeg
X-LIC-LOCATION:America/Winnipeg
BEGIN:DAYLIGHT
TZOFFSETFROM:-0500
TZOFFSETTO:-0500
DTSTART:19810329T020000
RRULE:FREQ=YEARLY;INTERVAL=1;BYMONTH=3;BYDAY=-1SU
END:DAYLIGHT
END:VTIMEZONE
BEGIN:VEVENT
UID:69e79aa09159c
DTSTART;TZID=America/Winnipeg:20250401T000000
SEQUENCE:0
TRANSP:OPAQUE
DTEND;TZID=America/Winnipeg:20270409T000000
URL:https://supplybuild.ca/events-calendar.html/event-info/details/id/114
SUMMARY:NHPA Inventory Management\, Retail Pricing – Managerial Staff
CLASS:PUBLIC
DESCRIPTION:\n\nhttps://supplybuild.ca/events-calendar.html/event-info/deta
 ils/id/114
X-ALT-DESC;FMTTYPE=text/html:<div style=\"margin-bottom: 3vh\;\">\n<div cla
 ss=\"wpad row-2column memWrap\">\n<div>\n<div>\n<h2>Inventory Management\,
  Retail Pricing</h2>\n\n<h3>Member Bundle Price: $199 per person</h3>\n\n<
 p><strong style=\"color:#330a2b\">Non-Member Bundle Price: $399 per person
 </strong></p>\n</div>\n\n<p><strong>Course Length:</strong> ~115 Mins | ~2
  Hours<br />\n<strong>Certificate:</strong> Shareable certificate issued u
 pon successful completion<br />\n<strong>Delivery Mode:</strong> 100% onli
 ne (self-paced) &mdash\; via desktop\, tablet\, and mobile devices</p>\n\n
 <p><strong>Included Courses:</strong></p>\n\n<div style=\"max-width: 700px
 \">\n<p>Loss Prevention: External Theft\, Loss Prevention: Internal Theft\
 , Basic Inventory Management\, Basic Retail Pricing\, Basic Retail Account
 ing</p>\n</div>\n</div>\n\n</div>\n\n
DTSTAMP:20260421T104120Z
END:VEVENT
END:VCALENDAR