BEGIN:VCALENDAR
VERSION:2.0
PRODID:ADNA Events System
X-WR-TIMEZONE:America/Winnipeg
BEGIN:VTIMEZONE
TZID:America/Winnipeg
X-LIC-LOCATION:America/Winnipeg
BEGIN:DAYLIGHT
TZOFFSETFROM:-0500
TZOFFSETTO:-0500
DTSTART:19810329T020000
RRULE:FREQ=YEARLY;INTERVAL=1;BYMONTH=3;BYDAY=-1SU
END:DAYLIGHT
END:VTIMEZONE
BEGIN:VEVENT
UID:69e798cc4ba43
DTSTART;TZID=America/Winnipeg:20250401T000000
SEQUENCE:0
TRANSP:OPAQUE
DTEND;TZID=America/Winnipeg:20270409T000000
URL:https://supplybuild.ca/events-calendar.html/event-info/details/id/113
SUMMARY:NHPA Paint Training – Floor Staff
CLASS:PUBLIC
DESCRIPTION:\n\nhttps://supplybuild.ca/events-calendar.html/event-info/deta
 ils/id/113
X-ALT-DESC;FMTTYPE=text/html:<div class=\"wpad row-2column memWrap\">\n<div
 >\n<div>\n<h2>Paint Training</h2>\n\n<h3>Member Bundle Price: $199 per per
 son</h3>\n\n<p><strong style=\"color:#330a2b\">Non-Member Bundle Price: $3
 99 per person</strong></p>\n</div>\n\n<p><strong>Course Length:</strong> ~
 75 Mins | ~1.25 Hours<br />\n<strong>Certificate:</strong> Shareable certi
 ficate issued upon successful completion<br />\n<strong>Delivery Mode:</st
 rong> 100% online (self-paced) &mdash\; via desktop\, tablet\, and mobile 
 devices</p>\n\n<div style=\"max-width: 700px\">\n<p>Basic Paint Sales\, Co
 atings Specialist\, Paint Customer Service Specialist</p>\n</div>\n</div>\
 n</div>\n
DTSTAMP:20260421T103332Z
END:VEVENT
END:VCALENDAR