BEGIN:VCALENDAR
VERSION:2.0
PRODID:ADNA Events System
X-WR-TIMEZONE:America/Winnipeg
BEGIN:VTIMEZONE
TZID:America/Winnipeg
X-LIC-LOCATION:America/Winnipeg
BEGIN:DAYLIGHT
TZOFFSETFROM:-0500
TZOFFSETTO:-0500
DTSTART:19810329T020000
RRULE:FREQ=YEARLY;INTERVAL=1;BYMONTH=3;BYDAY=-1SU
END:DAYLIGHT
END:VTIMEZONE
BEGIN:VEVENT
UID:69e79dabd8e25
DTSTART;TZID=America/Winnipeg:20250401T000000
SEQUENCE:0
TRANSP:OPAQUE
DTEND;TZID=America/Winnipeg:20270409T000000
URL:https://supplybuild.ca/events-calendar.html/event-info/details/id/112
SUMMARY:NHPA Building Materials Retailing – Floor Staff
CLASS:PUBLIC
DESCRIPTION:\n\nhttps://supplybuild.ca/events-calendar.html/event-info/deta
 ils/id/112
X-ALT-DESC;FMTTYPE=text/html:<div class=\"wpad row-2column memWrap\">\n<div
 >\n<div>\n<h2>Basic Training in Building Material Retailing</h2>\n\n<h3>Me
 mber Bundle Price: $199 per person</h3>\n\n<p><strong style=\"color:#330a2
 b\">Non-Member Bundle Price: $399 per person</strong></p>\n</div>\n\n<p><s
 trong>Course Length:</strong> ~450 Mins | ~7.5 Hours<br />\n<strong>Certif
 icate:</strong> Shareable certificate issued upon successful completion<br
  />\n<strong>Delivery Mode:</strong> 100% online (self-paced) &mdash\; via
  desktop\, tablet\, and mobile devices</p>\n\n<div style=\"max-width: 700p
 x\">\n<p>Lumber\, Engineered Wood\, Millwork\, Windows &amp\; Doors\, Sidi
 ng &amp\; Roofing\, Insulation\, Cabinets\, Interior Surfaces</p>\n</div>\
 n</div>\n</div>
DTSTAMP:20260421T105419Z
END:VEVENT
END:VCALENDAR