BEGIN:VCALENDAR
VERSION:2.0
PRODID:ADNA Events System
X-WR-TIMEZONE:America/Winnipeg
BEGIN:VTIMEZONE
TZID:America/Winnipeg
X-LIC-LOCATION:America/Winnipeg
BEGIN:DAYLIGHT
TZOFFSETFROM:-0500
TZOFFSETTO:-0500
DTSTART:19810329T020000
RRULE:FREQ=YEARLY;INTERVAL=1;BYMONTH=3;BYDAY=-1SU
END:DAYLIGHT
END:VTIMEZONE
BEGIN:VEVENT
UID:69e787bc83cbd
DTSTART;TZID=America/Winnipeg:20250401T000000
SEQUENCE:0
TRANSP:OPAQUE
DTEND;TZID=America/Winnipeg:20270409T000000
URL:https://supplybuild.ca/events-calendar.html/event-info/details/id/110
SUMMARY:NHPA Working in Retail – Beginner Staff
CLASS:PUBLIC
DESCRIPTION:\n\nhttps://supplybuild.ca/events-calendar.html/event-info/deta
 ils/id/110
X-ALT-DESC;FMTTYPE=text/html:<div style=\"margin-bottom: 3vh\;\">\n<div cla
 ss=\"wpad row-2column memWrap\">\n<div>\n<div>\n<h2>Working in Retail | Th
 e Basics</h2>\n\n<h3>Member Bundle Price: $99 per person</h3>\n\n<p><stron
 g style=\"color:#330a2b\">Non-Member Bundle Price: $199 per person</strong
 ></p>\n</div>\n\n<p><strong>Course Length:</strong> ~175 Mins | ~3 Hours<b
 r />\n<strong>Certificate:</strong> Shareable certificate issued upon succ
 essful completion<br />\n<strong>Delivery Mode:</strong> 100% online (self
 -paced) &mdash\; via desktop\, tablet\, and mobile devices</p>\n\n<p><stro
 ng>Included Courses:</strong></p>\n\n<div style=\"max-width: 700px\">\n<p>
 Joining a Retail Team\, Loss Prevention: Store Safety\, Our 3 Pennies of P
 rofit\, Basic Selling Skills\, Basic Merchandising\, Retails Terms</p>\n</
 div>\n</div>\n</div>\n</div>\n
DTSTAMP:20260421T092044Z
END:VEVENT
END:VCALENDAR